Workbook

Sheet Finanzkalkulation
A1: Finanzkalkulation Wir sind dabei! Wertstätten der Demokratie
A2: Projektträger | C2: Organisation
A3: Projektname | C3: Projektname
A5: Diese Formular gilt für Einzelprojekte. Alle Beträge verstehen sich inkl. ggf. anfallenden Steuern.
A6: Personalkosten
A7: Bitte hier folgende Daten für jede geplant beschäftigte Person für das Projekt eintragen: Nachvollziehbare Berechnung der Personalkosten (geplante Stunden pro Woche für das Projekt, Stundensatz im Projekt oder eindeutige Bezeichnung des Tarifs.)
E8: Summe
A10: P1 | B10: Funktion und Aufgabe im Projekt | D10: Zeitraum Beschäftigung
B11: Tarifbezeichnung oder Arbeitgeberbrutto | D11: Kalkulierte Arbeitsstunden
A12: P2 | B12: Funktion und Aufgabe im Projekt | D12: Zeitraum Beschäftigung
B13: Tarifbezeichnung oder Arbeitgeberbrutto | D13: Kalkulierte Arbeitsstunden
A14: P3 | B14: Funktion und Aufgabe im Projekt | D14: Zeitraum Beschäftigung
B15: Tarifbezeichnung oder Arbeitgeberbrutto | D15: Kalkulierte Arbeitsstunden
A16: P4 | B16: Funktion und Aufgabe im Projekt | D16: Zeitraum Beschäftigung
B17: Tarifbezeichnung oder Arbeitgeberbrutto | D17: Kalkulierte Arbeitsstunden
A18: Summe Personalkosten | E18: =SUM(E10:E17) -> 0
A21: Personenbezogene Aufwandsentschädigungen / Honorarkosten
A22: Bitte hier folgende Daten für jede geplante Honorarkraft im Projekt eintragen. Nachvollziehbare Berechnung der personenbezogenen Aufwandsentschädigungen/ Honorarkosten (geplante Stunden pro Woche für das Projekt, Stundensatz im Projekt oder eindeutige Bezeichnung des Tarifs.)
E23: Summe
A25: H1 | B25: Funktion und Aufgabe im Projekt | D25: Zeitraum Beschäftigung
B26: Stundensatz/Bezeichnung des Tarifs | D26: Kalkulierte Arbeitsstunden
A27: H2 | B27: Funktion und Aufgabe im Projekt | D27: Zeitraum Beschäftigung
B28: Stundensatz/Bezeichnung des Tarifs | D28: Kalkulierte Arbeitsstunden
A29: H3 | B29: Funktion und Aufgabe im Projekt | D29: Zeitraum Beschäftigung
B30: Stundensatz/Bezeichnung des Tarifs | D30: Kalkulierte Arbeitsstunden
A31: H4 | B31: Funktion und Aufgabe im Projekt | D31: Zeitraum Beschäftigung
B32: Stundensatz/Bezeichnung des Tarifs | D32: Kalkulierte Arbeitsstunden
A33: Summe Honorarkosten | E33: =SUM(E25:E32) -> 0
A35: Sachkosten*
A36: *Die Mittel sind gegenseitig deckungsfähig und übertragbar.
A37: Bezeichnung der Ausgaben, ggf. Zusatzinformationen | E37: Summe
A38: Raummieten (für Veranstaltungen im Rahmen des Projektes)
A45: Summe Raummieten | E45: =SUM(E39:E44) -> 0
A47: Material
A54: Summe Material | E54: =SUM(E48:E53) -> 0
A56: Laufende Kosten (z.B. Telefonkosten, Büromaterial etc.)
A63: Summe Laufende Kosten | E63: =SUM(E57:E62) -> 0
A65: Fahrtkosten
A72: Summe Fahrtkosten | E72: =SUM(E66:E71) -> 0
A73: Qualifizierungen (z.B. Workshops, Seminare, Fachtage)
...

Sheet Belegliste
A1: Anleitung zur Belegliste
A2: In der Belegliste müssen alle Belege des Projektes erfasst werden.
A3: Es muss nur die Belegliste ausgefüllt werden. Der Verwendungsnachweis wird automatisch aus dieser erstellt (Tabellenblatt "Verwendungsnachweis").
A4: Der Aufbau der Belegliste entspricht dem der Finanzkalkulation.
A5: Die Belege müssen nach Kostenarten (Personal-, Honorar-, Sachkosten und Mittel für die Produktion des Prototyps) aufgeteilt in die Tabelle eingetragen werden. Die Form der Nummerierung der Belege kann frei gewählt werden.
A6: Die Tabelle "Sonstige Einnahmen aus dem Projekt" muss nur ausgefüllt werden, wenn es sonstige Einnahmen im Projekt gab (z.B. Einnahmen beim Verkauf von Essen oder Getränken). Werden in Verbindung mit diesen Einnahmen entstehende Kosten als Kosten im Projekt angegeben ist hier der Umsatz und nicht der Gewinn einzutragen.
A8: Beispiel:
A9: Beleg-Nr. | B9: Datum | C9: Bezeichung der Ausgaben und ggf. Zusatzinformationen | D9: Art der Kosten | E9: Betrag
A10: S1 | B10: 44927 | C10: Beispiel | D10: Material | E10: 100
A12: Hinweis Sachkosten: Bei den Sachkosten ist die Art der Kosten im Dropdown auszuwählen. Die Kategorien sind entsprechend der Finanzkalkulation zu vergeben.
A14: Wird eine Zeile nicht vollständig ausgefüllt, werden die nicht ausgefüllten Felder rot markiert.
A16: Dieses Formular muss spätestens 2 Monate nach Projektende (s. Zuwendungsvertrag) als unterschriebene PDF-Datei und als Excel-Datei (ohne Unterschrift) gemeinsam mit dem Sachbericht in Moodle hochgeladen werden. Belege müssen nicht abgegeben werden, können aber bei Bedarf von der Programmfachstelle nachgefordert werden. (Grundsätzlich werden bei 10% der geförderten Projekte stichprobenhaft die Belege geprüft.)
A18: Belegliste Wir sind dabei! Wertstätten der Demokratie
A20: Projektträger | C20: =Finanzkalkulation!C2 -> Organisation
A21: Projektname | C21: =Finanzkalkulation!C3 -> Projektname
A24: Personalkosten
A25: Beleg-Nr. | B25: Datum | C25: Funktion und Aufgabe im Projekt | E25: Betrag
A36: Summe Personalkosten | E36: =SUM(E26:E35) -> 0
A40: Personenbezogene Aufwandsentschädigungen / Honorarkosten
A41: Beleg-Nr. | B41: Datum | C41: Funktion und Aufgabe im Projekt | E41: Betrag
A52: Summe Honorarkosten | E52: =SUM(E42:E51) -> 0
A56: Sachkosten
A57: Beleg-Nr. | B57: Datum | C57: Bezeichung der Ausgaben | D57: Art der Kosten | E57: Betrag
A142: Summe Raummieten | E142: =SUMIF($D58:$D141,"Raummiete",$E$58:$E$141) -> 0
A143: Summe Material | E143: =SUMIF($D58:$D141,"Material",$E$58:$E$141) -> 0
A144: Summe Laufende Kosten | E144: =SUMIF(D58:D141,"Laufende Kosten",$E$58:$E$141) -> 0
A145: Summe Fahrtkosten | E145: =SUMIF($D58:$D141,"Fahrtkosten",$E$58:$E$141) -> 0
A146: Summe Qualifizierungskosten | E146: =SUMIF($D58:$D141,"Qualifizierungen",$E$58:$E$141) -> 0
A147: Summe Kosten Öffentlickeitsarbeit | E147: =SUMIF($D58:$D141,"Öffentlichkeitsarbeit",$E$58:$E$141) -> 0
A148: Summe Kosten Sonstiges | E148: =SUMIF($D58:$D141,"Sonstiges",$E$58:$E$141) -> 0
A149: Summe Sachkosten | E149: =SUM(E58:E141) -> 0
A151: Mittel für die Produktion des Prototyps (Produkt)
A152: Beleg-Nr. | B152: Datum | C152: Bezeichung der Ausgaben | E152: Betrag
A165: Summe Mittel für die Produktion des Prototyps (Produkt) | E165: =SUM(E153:E164) -> 0
C167: Gesamtkosten des Projektes (alle Ausgaben) | E167: =SUM(E165,E149,E52,E36) -> 0
A169: davon eingesetzte Drittmittel | D169: Hier die Summe eintragen, die ihr an Drittmitteln zur Deckung eurer Projektkosten einsetzt.
A171: Sonstige Einnahmen im Projekt
A172: Beleg-Nr. | B172: Datum | C172: Bezeichung der Einnahmen | E172: Betrag (Umsatz)
A178: Summe der sonstigen Einnahmen aus dem Projekt | E178: =SUM(E173:E177) -> 0
A180: Summe getätigte Mittelabrufe | D180: Hier die Summe eintragen, die ihr bereits abgerufen habt.
...

Sheet Kontrollblatt
A1: Rechnerischer Verwendungsnachweis Wir sind dabei! Wertstätten der Demokratie
A2: Projektträger | B2: =Finanzkalkulation!C2 -> Organisation
A3: Projektname | B3: =Finanzkalkulation!C3 -> Projektname
A5: Dieses Tabellenblatt kann nicht bearbeitet werden. Die Daten werden automatisch aus der Finanzkalkulation und der Belegliste übernommen. Das Kontrollblatt dient dem Überblick über die Finanzen des Projekts.
A7: Kostenart | C7: Geplante Kosten aus Finanzkalkulation | D7: Reale Kosten | E7: Prozentualer Anteil | F7: Abweichung Kosten
A8: Personalkosten | C8: =Finanzkalkulation!E18 -> 0 | D8: =Belegliste!E36 -> 0 | E8: =IFERROR(D8/D20,0) -> 0 | F8: =D8-C8 -> 0
A9: Personenbezogene Aufwandsentschädigungen / Honorarkosten | C9: =Finanzkalkulation!E33 -> 0 | D9: =Belegliste!E52 -> 0 | E9: =IFERROR(D9/D20,0) -> 0 | F9: =D9-C9 -> 0
A10: Sachkosten
A11: Kosten für Raummiete | C11: =Finanzkalkulation!E45 -> 0 | D11: =Belegliste!E142 -> 0 | E11: =IFERROR(D18/D20,0) -> 0 | F11: =D11-C11 -> 0
A12: Kosten für Material | C12: =Finanzkalkulation!E54 -> 0 | D12: =Belegliste!E143 -> 0 | F12: =D12-C12 -> 0
A13: Laufende Kosten | C13: =Finanzkalkulation!E63 -> 0 | D13: =Belegliste!E144 -> 0 | F13: =D13-C13 -> 0
A14: Fahrtkosten | C14: =Finanzkalkulation!E72 -> 0 | D14: =Belegliste!E145 -> 0 | F14: =D14-C14 -> 0
A15: Kosten für Qualifizierungen | C15: =Finanzkalkulation!E80 -> 0 | D15: =Belegliste!E146 -> 0 | F15: =D15-C15 -> 0
A16: Kosten Öffentlichkeitsarbeit | C16: =Finanzkalkulation!E89 -> 0 | D16: =Belegliste!E147 -> 0 | F16: =D16-C16 -> 0
A17: Kosten Sonstiges | C17: =Finanzkalkulation!E98 -> 0 | D17: =Belegliste!E148 -> 0 | F17: =D17-C17 -> 0
A18: Summe Sachkosten | C18: =Finanzkalkulation!E99 -> 0 | D18: =Belegliste!E149 -> 0 | F18: =D18-C18 -> 0
A19: Mittel für die Produktion des Prototyps (Produkt) | C19: =Finanzkalkulation!E108 -> 0 | D19: =Belegliste!E165 -> 0 | E19: =IFERROR(D19/D20,0) -> 0 | F19: =D19-C19 -> 0
A20: Gesamtkosten des Projektes (zuwendungsfähige Ausgaben) | C20: =Finanzkalkulation!E110 -> 0 | D20: =Belegliste!E167 -> 0 | F20: =D20-C20 -> 0
A22: Überblick Projektfinanzierung
A23: Gesamtüberblick
A24: Gesamtausgaben des Projektes | C24: =Belegliste!E167 -> 0
A25: Abzüglich der sonstigen Einnahmen aus dem Projekt | C25: =Belegliste!E178 -> 0
A26: Summe der förderfähigen Ausgaben | C26: =SUM(C24-C25) -> 0
A28: Mittelverteilung
A29: Ausgaben, die von der BW-Stiftung gedeckt werden | C29: =IF(ISTEXT(Belegliste!D182),0,Belegliste!D182) -> 0
A30: ggf. Drittmittel | C30: =IF(ISTEXT(Belegliste!D169),0,Belegliste!D169) -> 0
A33: Noch abrufbare Fördermittel
A34: Eingesetzte Fördermittel | C34: =C29 -> 0
A35: Abzüglich der bereits abgerufenen Mittel | C35: =IF(ISTEXT(Belegliste!D180),0,Belegliste!D180) -> 0
A36: Differenz | C36: =C34-C35 -> 0 | D36: =IF(C36>=0," ","Eine negative Zahl bedeutet, dass mehr Fördermittel abgerufen wurden als im Projekt tatsächlich ausgegeben. Das bedeutet, dass die genannte Zahl an die Programmfachstelle zurückbezahlt werden muss. Dafür nimmt sie mit euch Kontakt auf.")

Sheet Sachkosten Liste
A3: Sachkosten
A4: Raummiete
A5: Material
A6: Laufende Kosten
A7: Fahrtkosten
A8: Qualifizierungen
A9: Öffentlichkeitsarbeit
A10: Sonstiges
